BEGIN:VCALENDAR
VERSION:2.0
PRODID:-//Tukios.com/
BEGIN:VEVENT
UID:dd30d534-8fe6-48d1-8691-166395be1af8@www.jeanevansthompsonfh.com
DTSTAMP:20260421T183006Z
DTSTART:20260424T150000Z
DTEND:20260424T160000Z
SUMMARY:Funeral Service
DESCRIPTION:
URL:https://www.jeanevansthompsonfh.com/obituaries/joan-brewster
LOCATION:Ligon & Bobo Funeral Home Inc 241 W Main St  Lebanon TN 37087
GEO:36.2086807;-86.2949433
END:VEVENT
END:VCALENDAR