BEGIN:VCALENDAR
VERSION:2.0
PRODID:-//Tukios.com/
BEGIN:VEVENT
UID:daf23bfd-6b3e-4121-924a-4ee967c349ae@www.jeanevansthompsonfh.com
DTSTAMP:20260421T183435Z
DTSTART:20260424T150000Z
DTEND:20260424T160000Z
SUMMARY:Visitation
DESCRIPTION:
URL:https://www.jeanevansthompsonfh.com/obituaries/joan-brewster
LOCATION:Ligon & Bobo Funeral Home Inc 241 W Main St  Lebanon TN 37087
GEO:36.2086807;-86.2949433
END:VEVENT
END:VCALENDAR