BEGIN:VCALENDAR
VERSION:2.0
PRODID:-//Tukios.com/
BEGIN:VEVENT
UID:fa54e0a5-8ff6-4506-8716-3a3486b6b531@www.jeanevansthompsonfh.com
DTSTAMP:20260421T183306Z
DTSTART:20260429T150000Z
DTEND:20260429T160000Z
SUMMARY:Graveside Service
DESCRIPTION:
URL:https://www.jeanevansthompsonfh.com/obituaries/joan-brewster
LOCATION:  PA-215  East Springfield PA 16411
GEO:41.9649785;-80.4075588
END:VEVENT
END:VCALENDAR