BEGIN:VCALENDAR
VERSION:2.0
PRODID:-//Tukios.com/
BEGIN:VEVENT
UID:a45f2c5d-d9bb-4974-b657-a9d280822973@www.jeanevansthompsonfh.com
DTSTAMP:20260421T183413Z
DTSTART:20260423T210000Z
DTEND:20260424T000000Z
SUMMARY:Visitation
DESCRIPTION:
URL:https://www.jeanevansthompsonfh.com/obituaries/joan-brewster
LOCATION:Ligon & Bobo Funeral Home Inc 241 W Main St  Lebanon TN 37087
GEO:36.2086807;-86.2949433
END:VEVENT
END:VCALENDAR